BEGIN:VCALENDAR
VERSION:2.0
PRODID:-//När GK - ECPv6.15.15//NONSGML v1.0//EN
CALSCALE:GREGORIAN
METHOD:PUBLISH
X-ORIGINAL-URL:https://www.nargk.se
X-WR-CALDESC:Händelser för När GK
REFRESH-INTERVAL;VALUE=DURATION:PT1H
X-Robots-Tag:noindex
X-PUBLISHED-TTL:PT1H
BEGIN:VTIMEZONE
TZID:Europe/Stockholm
BEGIN:DAYLIGHT
TZOFFSETFROM:+0100
TZOFFSETTO:+0200
TZNAME:CEST
DTSTART:20230326T010000
END:DAYLIGHT
BEGIN:STANDARD
TZOFFSETFROM:+0200
TZOFFSETTO:+0100
TZNAME:CET
DTSTART:20231029T010000
END:STANDARD
BEGIN:DAYLIGHT
TZOFFSETFROM:+0100
TZOFFSETTO:+0200
TZNAME:CEST
DTSTART:20240331T010000
END:DAYLIGHT
BEGIN:STANDARD
TZOFFSETFROM:+0200
TZOFFSETTO:+0100
TZNAME:CET
DTSTART:20241027T010000
END:STANDARD
BEGIN:DAYLIGHT
TZOFFSETFROM:+0100
TZOFFSETTO:+0200
TZNAME:CEST
DTSTART:20250330T010000
END:DAYLIGHT
BEGIN:STANDARD
TZOFFSETFROM:+0200
TZOFFSETTO:+0100
TZNAME:CET
DTSTART:20251026T010000
END:STANDARD
END:VTIMEZONE
BEGIN:VEVENT
DTSTART;TZID=Europe/Stockholm:20240820T090000
DTEND;TZID=Europe/Stockholm:20240820T110000
DTSTAMP:20260422T123155
CREATED:20240326T112228Z
LAST-MODIFIED:20240326T113341Z
UID:10000108-1724144400-1724151600@www.nargk.se
SUMMARY:Veterantisdag
DESCRIPTION:Golf för veteraner. Boka via MinGolf \nTävlingsledare:Inger Johed\, Mobil: 070-3666128\, E-post: inger@johed.com
URL:https://www.nargk.se/event/6083/
END:VEVENT
BEGIN:VEVENT
DTSTART;TZID=Europe/Stockholm:20240818T140000
DTEND;TZID=Europe/Stockholm:20240818T170000
DTSTAMP:20260422T123155
CREATED:20240326T123816Z
LAST-MODIFIED:20240326T123816Z
UID:10000139-1723989600-1724000400@www.nargk.se
SUMMARY:Seriespel När GK - Visby GK
DESCRIPTION:Tävlingsledare:Per Josefsson\, Mobil: 070-8112801\, E-post: per.josef@telia.com
URL:https://www.nargk.se/event/seriespel-nar-gk-visby-gk/
END:VEVENT
BEGIN:VEVENT
DTSTART;TZID=Europe/Stockholm:20240815T080000
DTEND;TZID=Europe/Stockholm:20240815T100000
DTSTAMP:20260422T123155
CREATED:20240326T123653Z
LAST-MODIFIED:20240326T123653Z
UID:10000138-1723708800-1723716000@www.nargk.se
SUMMARY:Tävling: Sammanslaget damer\, veteraner\, kåks - 9 hål
DESCRIPTION:Tävlingsledare:Kjell Lindén\, Mobil: 073-5261304\, E-post: lindenkjell74@gmail.com
URL:https://www.nargk.se/event/tavling-sammanslaget-damer-veteraner-kaks-9-hal/
END:VEVENT
BEGIN:VEVENT
DTSTART;TZID=Europe/Stockholm:20240814T090000
DTEND;TZID=Europe/Stockholm:20240814T113000
DTSTAMP:20260422T123155
CREATED:20240802T193903Z
LAST-MODIFIED:20240802T193903Z
UID:10000182-1723626000-1723635000@www.nargk.se
SUMMARY:Arbetsdag på klubben
DESCRIPTION:Jag planerar för onsdagen den 14 augusti kl 09.00. Samling vid verkstaden.\nBunkrar mm. Korv ca 11.30. Anmäl gärna deltagande till kansliet\nVälkomna\nSune
URL:https://www.nargk.se/event/arbetsdag-pa-klubben/
END:VEVENT
BEGIN:VEVENT
DTSTART;TZID=Europe/Stockholm:20240811T090000
DTEND;TZID=Europe/Stockholm:20240811T170000
DTSTAMP:20260422T123155
CREATED:20240326T123420Z
LAST-MODIFIED:20240326T123420Z
UID:10000137-1723366800-1723395600@www.nargk.se
SUMMARY:Tävling: Klubbmatch När GK - Visby GK
DESCRIPTION:Tävlingsledare:Sonya Lundberg\, Mobil: 070-304 68 00\, E-post: sonya.lundberg@me.com
URL:https://www.nargk.se/event/tavling-klubbmatch-nar-gk-visby-gk/
END:VEVENT
BEGIN:VEVENT
DTSTART;TZID=Europe/Stockholm:20240810T160000
DTEND;TZID=Europe/Stockholm:20240810T170000
DTSTAMP:20260422T123155
CREATED:20240517T185319Z
LAST-MODIFIED:20240517T185319Z
UID:10000160-1723305600-1723309200@www.nargk.se
SUMMARY:Krögargolf final
DESCRIPTION:Nu startar vi upp Närs Krog krögargolf!\nNär: Fredagar 31/5 – 2/8 \nStarttid: 16:00 \nAntal hål: 18 \nSpelform: Singeltävling/poängbogey. Tre bästa rundorna + sista 18 ger pris. \nAntal platser: 24 platser/tillfälle\, ”först till kvarn” \nAnmälan:  öppnar en vecka innan varje start. Du anmäler och betalar direkt på MinGolf. Sista anmälan torsdagar kl 12:00 \nPris: Mat och spel 250:- obligatoriskt mat och dryck. Mat utan spel  220:- \nAvslutning: final lördag den 10 augusti över 18 hål och grillafton.
URL:https://www.nargk.se/event/krogargolf-final/
END:VEVENT
BEGIN:VEVENT
DTSTART;TZID=Europe/Stockholm:20240808T160000
DTEND;TZID=Europe/Stockholm:20240808T170000
DTSTAMP:20260422T123155
CREATED:20240627T111655Z
LAST-MODIFIED:20240722T152021Z
UID:10000170-1723132800-1723136400@www.nargk.se
SUMMARY:Sommarmöte medlemmar
DESCRIPTION:Välkommen alla medlemmar på sommarmöte. \nVi summerar säsongen så här långt och kikar framåt mot 2025. Tid för frågor finns. \nVänligen skicka dina frågor/funderingar i förväg till sonya.lundberg@me.com så att för vi i styrelsen får bästa möjliga förutsättningar att förbereda oss. \nStyrelsen När GK \nSonya\, Marie\, Lars-Erik\, Per\, Elisabeth och Karl\, Carl-Fredrik. \nVälkommen!
URL:https://www.nargk.se/event/sommarmote-medlemmar/
END:VEVENT
BEGIN:VEVENT
DTSTART;TZID=Europe/Stockholm:20240808T090000
DTEND;TZID=Europe/Stockholm:20240808T110000
DTSTAMP:20260422T123155
CREATED:20240802T193428Z
LAST-MODIFIED:20240802T193428Z
UID:10000180-1723107600-1723114800@www.nargk.se
SUMMARY:Mental träning för golfare
DESCRIPTION:Vi har alla varit med om känslan av ett dåligt spelat hål. På väg till nästa hål finns den där missmodiga känslan kvar som liksom tar över spelet. Låt inte ett dåligt slag förstöra en hel runda! Den här föreläsningen ger dig verktyg\, tankesätt och motivation till förändring. \nThomas Nilsson är legitimerad psykolog med särskilt intresse för idrottspsykologi och har bland annat coachat Charlotte Kalla\, friidrottaren Andreas Almgren och skidlandslaget. Han föreläser också om motivation\, prestationspsykologi\, spelberoende och vad som gör oss lyckliga.
URL:https://www.nargk.se/event/mental-traning-for-golfare/
END:VEVENT
BEGIN:VEVENT
DTSTART;TZID=Europe/Stockholm:20240807T180000
DTEND;TZID=Europe/Stockholm:20240807T200000
DTSTAMP:20260422T123155
CREATED:20240802T193546Z
LAST-MODIFIED:20240802T193623Z
UID:10000181-1723053600-1723060800@www.nargk.se
SUMMARY:Damernas vinprovning
DESCRIPTION:Det är sommar och vad är härligare än ett gott Rosévin? Här tittar vi på rosévinets moder\, Rosé gjort av världskända vinmakare\, en fullträffsrosé från  världen utanför rosévinets födelseplats – La France – och så avslutar vi med crème de la crème\, top of the line\, Drottningen av rosévinet själv! Efter denna provning vet du exakt vad just dina smaklökar börjar sjunga av och vad som ska beställas hem via Ljugarns handel – denna fullträff till utlämningsställe för oss Närbor. \n\n\n \n\nVälkomna 18.00 (prick!!!! för vinerna ska vara kalla\, torra dock ej helt gratis) Slut ca klockan 19.30-20.00 beroende på frågor och om det existerar några slattar som ej kan sparas. I priset 350:- ingår en liten tilltuggstallrik.
URL:https://www.nargk.se/event/damernas-vinprovning/
END:VEVENT
BEGIN:VEVENT
DTSTART;TZID=Europe/Stockholm:20240806T090000
DTEND;TZID=Europe/Stockholm:20240806T110000
DTSTAMP:20260422T123155
CREATED:20240326T112113Z
LAST-MODIFIED:20240326T112113Z
UID:10000107-1722934800-1722942000@www.nargk.se
SUMMARY:Veterantisdag
DESCRIPTION:Golf för veteraner. Boka via MinGolf. \nTävlingsledare:Lena Carnemar\, Mobil: 070-7252625\, E-post: lena.carnemar@gmail.com
URL:https://www.nargk.se/event/veterantisdag-10/
END:VEVENT
BEGIN:VEVENT
DTSTART;VALUE=DATE:20240805
DTEND;VALUE=DATE:20240808
DTSTAMP:20260422T123155
CREATED:20240220T120524Z
LAST-MODIFIED:20240617T071738Z
UID:10000091-1722816000-1723075199@www.nargk.se
SUMMARY:Träning: Nybörjarkurs seniorer
DESCRIPTION:Nyfiken på golf? Välkommen till nybörjarkursen i golf på När GK. \nKursen genomförs under 3 dagar á 5 timmar. \nKostnad för grönt-kort kursen: 2 195:- \nKostnad för grönt-kort kursen + medlemsskap: 2 995:- \n  \nBoka via mail till info@nargk.se
URL:https://www.nargk.se/event/traning-nyborjarkurs-5/
END:VEVENT
BEGIN:VEVENT
DTSTART;TZID=Europe/Stockholm:20240803T130000
DTEND;TZID=Europe/Stockholm:20240803T140000
DTSTAMP:20260422T123155
CREATED:20240326T123304Z
LAST-MODIFIED:20240326T123304Z
UID:10000136-1722690000-1722693600@www.nargk.se
SUMMARY:Tävling: Närkampen
DESCRIPTION:Tävlingsledare:Sune Jacobsson\, Mobil: (Ingen)\, E-post: sune@comhem.se
URL:https://www.nargk.se/event/tavling-narkampen/
END:VEVENT
BEGIN:VEVENT
DTSTART;TZID=Europe/Stockholm:20240802T160000
DTEND;TZID=Europe/Stockholm:20240802T170000
DTSTAMP:20260422T123155
CREATED:20240517T185222Z
LAST-MODIFIED:20240517T185222Z
UID:10000159-1722614400-1722618000@www.nargk.se
SUMMARY:Krögargolf
DESCRIPTION:Nu startar vi upp Närs Krog krögargolf!\nNär: Fredagar 31/5 – 2/8 \nStarttid: 16:00 \nAntal hål: 9 \nSpelform: Singeltävling/poängbogey. Tre bästa rundorna + sista 18 ger pris. \nAntal platser: 24 platser/tillfälle\, ”först till kvarn” \nAnmälan:  öppnar en vecka innan varje start. Du anmäler och betalar direkt på MinGolf. Sista anmälan torsdagar kl 12:00 \nPris: Mat och spel 250:- obligatoriskt mat och dryck. Mat utan spel  220:- \nAvslutning: final lördag den 10 augusti över 18 hål och grillafton.
URL:https://www.nargk.se/event/krogargolf-9/
END:VEVENT
BEGIN:VEVENT
DTSTART;TZID=Europe/Stockholm:20240801T160000
DTEND;TZID=Europe/Stockholm:20240801T164500
DTSTAMP:20260422T123155
CREATED:20240705T111441Z
LAST-MODIFIED:20240705T111441Z
UID:10000178-1722528000-1722530700@www.nargk.se
SUMMARY:Juniorträning
DESCRIPTION:Välkommen på juniorträning\, torsdagar i juli 16:00 – 16:45. \nPris: 50:-/tillfälle \nBoka via nargk.se/boka \n 
URL:https://www.nargk.se/event/juniortraning-4/
END:VEVENT
BEGIN:VEVENT
DTSTART;TZID=Europe/Stockholm:20240801T100000
DTEND;TZID=Europe/Stockholm:20240801T120000
DTSTAMP:20260422T123155
CREATED:20240326T123150Z
LAST-MODIFIED:20240326T123150Z
UID:10000135-1722506400-1722513600@www.nargk.se
SUMMARY:Tävling: När Hickory Open
DESCRIPTION:Tävlingsledare:Karl Ekwall\, Mobil: 070-660 02 29\, E-post: karl.ekwall@ki.se
URL:https://www.nargk.se/event/tavling-nar-hickory-open/
END:VEVENT
BEGIN:VEVENT
DTSTART;TZID=Europe/Stockholm:20240730T130000
DTEND;TZID=Europe/Stockholm:20240730T150000
DTSTAMP:20260422T123155
CREATED:20240326T111950Z
LAST-MODIFIED:20240326T113415Z
UID:10000106-1722344400-1722351600@www.nargk.se
SUMMARY:Veterantisdag
DESCRIPTION:Golf för veteraner. Boka via MinGolf \nTävlingsledare:Svend-Erik Nielsen\, Mobil: 076-1739800\, E-post: setn49@gmail.com
URL:https://www.nargk.se/event/6079/
END:VEVENT
BEGIN:VEVENT
DTSTART;TZID=Europe/Stockholm:20240728T090000
DTEND;TZID=Europe/Stockholm:20240728T140000
DTSTAMP:20260422T123155
CREATED:20240326T123022Z
LAST-MODIFIED:20240326T123022Z
UID:10000134-1722157200-1722175200@www.nargk.se
SUMMARY:Tävling: Klubbmästerskap (KM)
DESCRIPTION:Tävlingsledare:Andreas Montelius\, Mobil: 073-027 96 14\, E-post: andreas.j.montelius@telia.com
URL:https://www.nargk.se/event/tavling-klubbmasterskap-km/
END:VEVENT
BEGIN:VEVENT
DTSTART;TZID=Europe/Stockholm:20240727T083000
DTEND;TZID=Europe/Stockholm:20240727T120000
DTSTAMP:20260422T123155
CREATED:20240326T122847Z
LAST-MODIFIED:20240326T122847Z
UID:10000133-1722069000-1722081600@www.nargk.se
SUMMARY:Tävling: Närbodi Äkta makar/sambos
DESCRIPTION:Tävlingsledare:Karin Enberg Persson\, Mobil: 070 4549897\, E-post: (Ingen)
URL:https://www.nargk.se/event/tavling-narbodi-akta-makar-sambos/
END:VEVENT
BEGIN:VEVENT
DTSTART;TZID=Europe/Stockholm:20240726T160000
DTEND;TZID=Europe/Stockholm:20240726T170000
DTSTAMP:20260422T123155
CREATED:20240517T185120Z
LAST-MODIFIED:20240517T185148Z
UID:10000158-1722009600-1722013200@www.nargk.se
SUMMARY:Krögargolf
DESCRIPTION:Nu startar vi upp Närs Krog krögargolf!\nNär: Fredagar 31/5 – 2/8 \nStarttid: 16:00 \nAntal hål: 9 \nSpelform: Singeltävling/poängbogey. Tre bästa rundorna + sista 18 ger pris. \nAntal platser: 24 platser/tillfälle\, ”först till kvarn” \nAnmälan:  öppnar en vecka innan varje start. Du anmäler och betalar direkt på MinGolf. Sista anmälan torsdagar kl 12:00 \nPris: Mat och spel 250:- obligatoriskt mat och dryck. Mat utan spel  220:- \nAvslutning: final lördag den 10 augusti över 18 hål och grillafton.
URL:https://www.nargk.se/event/krogargolf-8/
END:VEVENT
BEGIN:VEVENT
DTSTART;TZID=Europe/Stockholm:20240725T170000
DTEND;TZID=Europe/Stockholm:20240725T180000
DTSTAMP:20260422T123155
CREATED:20240626T103437Z
LAST-MODIFIED:20240626T103437Z
UID:10000169-1721926800-1721930400@www.nargk.se
SUMMARY:Medlemsträning
DESCRIPTION:Medlemsträning senior \nTid: 17:00 – 18:00 \nAvgift: 100:- \nMax 12 deltagare
URL:https://www.nargk.se/event/medlemstraning-4/
END:VEVENT
BEGIN:VEVENT
DTSTART;TZID=Europe/Stockholm:20240725T160000
DTEND;TZID=Europe/Stockholm:20240725T164500
DTSTAMP:20260422T123155
CREATED:20240705T111401Z
LAST-MODIFIED:20240705T111401Z
UID:10000177-1721923200-1721925900@www.nargk.se
SUMMARY:Juniorträning
DESCRIPTION:Välkommen på juniorträning\, torsdagar i juli 16:00 – 16:45. \nPris: 50:-/tillfälle \nBoka via nargk.se/boka \n 
URL:https://www.nargk.se/event/juniortraning-3/
END:VEVENT
BEGIN:VEVENT
DTSTART;TZID=Europe/Stockholm:20240723T160000
DTEND;TZID=Europe/Stockholm:20240723T180000
DTSTAMP:20260422T123155
CREATED:20240701T070633Z
LAST-MODIFIED:20240704T075504Z
UID:10000174-1721750400-1721757600@www.nargk.se
SUMMARY:Damträning
DESCRIPTION:Vi följer upp förra årets succéträningar speciellt utformade för damer. Tillsammans med PRO tränar vi med olika teman och har kul tillsammans. 150:-/tillfälle. Max 24 platser. Boka damträning nargk.se/boka och betala i receptionen. Det är Fredrik Ström och Hans Agardh som kommer vara tränare i år.
URL:https://www.nargk.se/event/damtraning-4/
END:VEVENT
BEGIN:VEVENT
DTSTART;TZID=Europe/Stockholm:20240723T130000
DTEND;TZID=Europe/Stockholm:20240723T150000
DTSTAMP:20260422T123155
CREATED:20240326T111841Z
LAST-MODIFIED:20240326T111841Z
UID:10000105-1721739600-1721746800@www.nargk.se
SUMMARY:Veterantisdag
DESCRIPTION:Golf för veteraner. Boka via MinGolf \nTävlingsledare:Lena Carnemar\, Mobil: 070-7252625\, E-post: lena.carnemar@gmail.com
URL:https://www.nargk.se/event/veterantisdag-9/
END:VEVENT
BEGIN:VEVENT
DTSTART;VALUE=DATE:20240723
DTEND;VALUE=DATE:20240726
DTSTAMP:20260422T123155
CREATED:20240220T120448Z
LAST-MODIFIED:20240617T071847Z
UID:10000090-1721692800-1721951999@www.nargk.se
SUMMARY:Träning: Nybörjarkurs seniorer
DESCRIPTION:Nyfiken på golf? Välkommen till nybörjarkursen i golf på När GK. \nKursen genomförs under 3 dagar á 5 timmar. \nKostnad för grönt-kort kursen: 2 195:- \nKostnad för grönt-kort kursen + medlemsskap: 2 995:- \nBoka via mail till info@nargk.se
URL:https://www.nargk.se/event/traning-nyborjarkurs-4/
END:VEVENT
BEGIN:VEVENT
DTSTART;TZID=Europe/Stockholm:20240722T130000
DTEND;TZID=Europe/Stockholm:20240722T150000
DTSTAMP:20260422T123155
CREATED:20240326T122709Z
LAST-MODIFIED:20240326T122709Z
UID:10000132-1721653200-1721660400@www.nargk.se
SUMMARY:Tävling: Juniortouren/Hansson Junior Cup
DESCRIPTION:Tävlingsledare:Elisabeth Ollas Paulsson\, Mobil: 070-682 19 53\, E-post: eollaspaulsson@gmail.com
URL:https://www.nargk.se/event/tavling-juniortouren-hansson-junior-cup/
END:VEVENT
BEGIN:VEVENT
DTSTART;TZID=Europe/Stockholm:20240719T160000
DTEND;TZID=Europe/Stockholm:20240719T170000
DTSTAMP:20260422T123155
CREATED:20240517T185839Z
LAST-MODIFIED:20240517T185839Z
UID:10000161-1721404800-1721408400@www.nargk.se
SUMMARY:Krögargolf
DESCRIPTION:Nu startar vi upp Närs Krog krögargolf!\nNär: Fredagar 31/5 – 2/8 \nStarttid: 16:00 \nAntal hål: 9 \nSpelform: Singeltävling/poängbogey. Tre bästa rundorna + sista 18 ger pris. \nAntal platser: 24 platser/tillfälle\, ”först till kvarn” \nAnmälan:  öppnar en vecka innan varje start. Du anmäler och betalar direkt på MinGolf. Sista anmälan torsdagar kl 12:00 \nPris: Mat och spel 250:- obligatoriskt mat och dryck. Mat utan spel  220:- \nAvslutning: final lördag den 10 augusti över 18 hål och grillafton.
URL:https://www.nargk.se/event/krogargolf-10/
END:VEVENT
BEGIN:VEVENT
DTSTART;TZID=Europe/Stockholm:20240718T170000
DTEND;TZID=Europe/Stockholm:20240718T180000
DTSTAMP:20260422T123155
CREATED:20240626T103406Z
LAST-MODIFIED:20240626T103406Z
UID:10000168-1721322000-1721325600@www.nargk.se
SUMMARY:Medlemsträning
DESCRIPTION:Medlemsträning senior \nTid: 17:00 – 18:00 \nAvgift: 100:- \nMax 12 deltagare
URL:https://www.nargk.se/event/medlemstraning-3/
END:VEVENT
BEGIN:VEVENT
DTSTART;TZID=Europe/Stockholm:20240718T160000
DTEND;TZID=Europe/Stockholm:20240718T164500
DTSTAMP:20260422T123155
CREATED:20240705T111335Z
LAST-MODIFIED:20240705T111335Z
UID:10000176-1721318400-1721321100@www.nargk.se
SUMMARY:Juniorträning
DESCRIPTION:Välkommen på juniorträning\, torsdagar i juli 16:00 – 16:45. \nPris: 50:-/tillfälle \nBoka via nargk.se/boka \n 
URL:https://www.nargk.se/event/juniortraning-2/
END:VEVENT
BEGIN:VEVENT
DTSTART;TZID=Europe/Stockholm:20240717T110000
DTEND;TZID=Europe/Stockholm:20240717T120000
DTSTAMP:20260422T123155
CREATED:20240326T122409Z
LAST-MODIFIED:20240326T122409Z
UID:10000130-1721214000-1721217600@www.nargk.se
SUMMARY:Tävling: Närkdagen Kåks
DESCRIPTION:Tävlingsledare:Kjell Lindén\, Mobil: 073-5261304\, E-post: lindenkjell74@gmail.com
URL:https://www.nargk.se/event/tavling-narkdagen-kaks/
END:VEVENT
BEGIN:VEVENT
DTSTART;TZID=Europe/Stockholm:20240717T090000
DTEND;TZID=Europe/Stockholm:20240717T120000
DTSTAMP:20260422T123155
CREATED:20240326T122526Z
LAST-MODIFIED:20240712T115707Z
UID:10000131-1721206800-1721217600@www.nargk.se
SUMMARY:Tävling: Närkdagen bästboll
DESCRIPTION:Tävlingsledare:Inger Lindelöw\, Mobil: 070-591 22 09\, E-post: inger.lindelow@gmail.com
URL:https://www.nargk.se/event/tavling-narkdagen-shamble/
END:VEVENT
END:VCALENDAR