BEGIN:VCALENDAR
VERSION:2.0
PRODID:-//När GK - ECPv6.15.15//NONSGML v1.0//EN
CALSCALE:GREGORIAN
METHOD:PUBLISH
X-WR-CALNAME:När GK
X-ORIGINAL-URL:https://www.nargk.se
X-WR-CALDESC:Händelser för När GK
REFRESH-INTERVAL;VALUE=DURATION:PT1H
X-Robots-Tag:noindex
X-PUBLISHED-TTL:PT1H
BEGIN:VTIMEZONE
TZID:Europe/Stockholm
BEGIN:DAYLIGHT
TZOFFSETFROM:+0100
TZOFFSETTO:+0200
TZNAME:CEST
DTSTART:20230326T010000
END:DAYLIGHT
BEGIN:STANDARD
TZOFFSETFROM:+0200
TZOFFSETTO:+0100
TZNAME:CET
DTSTART:20231029T010000
END:STANDARD
BEGIN:DAYLIGHT
TZOFFSETFROM:+0100
TZOFFSETTO:+0200
TZNAME:CEST
DTSTART:20240331T010000
END:DAYLIGHT
BEGIN:STANDARD
TZOFFSETFROM:+0200
TZOFFSETTO:+0100
TZNAME:CET
DTSTART:20241027T010000
END:STANDARD
BEGIN:DAYLIGHT
TZOFFSETFROM:+0100
TZOFFSETTO:+0200
TZNAME:CEST
DTSTART:20250330T010000
END:DAYLIGHT
BEGIN:STANDARD
TZOFFSETFROM:+0200
TZOFFSETTO:+0100
TZNAME:CET
DTSTART:20251026T010000
END:STANDARD
END:VTIMEZONE
BEGIN:VEVENT
DTSTART;TZID=Europe/Stockholm:20240722T130000
DTEND;TZID=Europe/Stockholm:20240722T150000
DTSTAMP:20260422T153906
CREATED:20240326T122709Z
LAST-MODIFIED:20240326T122709Z
UID:10000132-1721653200-1721660400@www.nargk.se
SUMMARY:Tävling: Juniortouren/Hansson Junior Cup
DESCRIPTION:Tävlingsledare:Elisabeth Ollas Paulsson\, Mobil: 070-682 19 53\, E-post: eollaspaulsson@gmail.com
URL:https://www.nargk.se/event/tavling-juniortouren-hansson-junior-cup/
END:VEVENT
BEGIN:VEVENT
DTSTART;TZID=Europe/Stockholm:20240719T160000
DTEND;TZID=Europe/Stockholm:20240719T170000
DTSTAMP:20260422T153906
CREATED:20240517T185839Z
LAST-MODIFIED:20240517T185839Z
UID:10000161-1721404800-1721408400@www.nargk.se
SUMMARY:Krögargolf
DESCRIPTION:Nu startar vi upp Närs Krog krögargolf!\nNär: Fredagar 31/5 – 2/8 \nStarttid: 16:00 \nAntal hål: 9 \nSpelform: Singeltävling/poängbogey. Tre bästa rundorna + sista 18 ger pris. \nAntal platser: 24 platser/tillfälle\, ”först till kvarn” \nAnmälan:  öppnar en vecka innan varje start. Du anmäler och betalar direkt på MinGolf. Sista anmälan torsdagar kl 12:00 \nPris: Mat och spel 250:- obligatoriskt mat och dryck. Mat utan spel  220:- \nAvslutning: final lördag den 10 augusti över 18 hål och grillafton.
URL:https://www.nargk.se/event/krogargolf-10/
END:VEVENT
BEGIN:VEVENT
DTSTART;TZID=Europe/Stockholm:20240718T170000
DTEND;TZID=Europe/Stockholm:20240718T180000
DTSTAMP:20260422T153906
CREATED:20240626T103406Z
LAST-MODIFIED:20240626T103406Z
UID:10000168-1721322000-1721325600@www.nargk.se
SUMMARY:Medlemsträning
DESCRIPTION:Medlemsträning senior \nTid: 17:00 – 18:00 \nAvgift: 100:- \nMax 12 deltagare
URL:https://www.nargk.se/event/medlemstraning-3/
END:VEVENT
BEGIN:VEVENT
DTSTART;TZID=Europe/Stockholm:20240718T160000
DTEND;TZID=Europe/Stockholm:20240718T164500
DTSTAMP:20260422T153906
CREATED:20240705T111335Z
LAST-MODIFIED:20240705T111335Z
UID:10000176-1721318400-1721321100@www.nargk.se
SUMMARY:Juniorträning
DESCRIPTION:Välkommen på juniorträning\, torsdagar i juli 16:00 – 16:45. \nPris: 50:-/tillfälle \nBoka via nargk.se/boka \n 
URL:https://www.nargk.se/event/juniortraning-2/
END:VEVENT
BEGIN:VEVENT
DTSTART;TZID=Europe/Stockholm:20240717T110000
DTEND;TZID=Europe/Stockholm:20240717T120000
DTSTAMP:20260422T153906
CREATED:20240326T122409Z
LAST-MODIFIED:20240326T122409Z
UID:10000130-1721214000-1721217600@www.nargk.se
SUMMARY:Tävling: Närkdagen Kåks
DESCRIPTION:Tävlingsledare:Kjell Lindén\, Mobil: 073-5261304\, E-post: lindenkjell74@gmail.com
URL:https://www.nargk.se/event/tavling-narkdagen-kaks/
END:VEVENT
BEGIN:VEVENT
DTSTART;TZID=Europe/Stockholm:20240717T090000
DTEND;TZID=Europe/Stockholm:20240717T120000
DTSTAMP:20260422T153906
CREATED:20240326T122526Z
LAST-MODIFIED:20240712T115707Z
UID:10000131-1721206800-1721217600@www.nargk.se
SUMMARY:Tävling: Närkdagen bästboll
DESCRIPTION:Tävlingsledare:Inger Lindelöw\, Mobil: 070-591 22 09\, E-post: inger.lindelow@gmail.com
URL:https://www.nargk.se/event/tavling-narkdagen-shamble/
END:VEVENT
BEGIN:VEVENT
DTSTART;TZID=Europe/Stockholm:20240716T160000
DTEND;TZID=Europe/Stockholm:20240716T180000
DTSTAMP:20260422T153906
CREATED:20240701T070608Z
LAST-MODIFIED:20240704T075408Z
UID:10000173-1721145600-1721152800@www.nargk.se
SUMMARY:Damträning
DESCRIPTION:Vi följer upp förra årets succéträningar speciellt utformade för damer. Tillsammans med PRO tränar vi med olika teman och har kul tillsammans. 150:-/tillfälle. Max 24 platser. Boka damträning nargk.se/boka och betala i receptionen. Det är Fredrik Ström och Hans Agardh som kommer vara tränare i år.
URL:https://www.nargk.se/event/damtraning-3/
END:VEVENT
BEGIN:VEVENT
DTSTART;TZID=Europe/Stockholm:20240716T130000
DTEND;TZID=Europe/Stockholm:20240716T150000
DTSTAMP:20260422T153906
CREATED:20240326T111705Z
LAST-MODIFIED:20240326T111705Z
UID:10000104-1721134800-1721142000@www.nargk.se
SUMMARY:Veterantisdag
DESCRIPTION:Golf för veteraner. Boka via MinGolf \nTävlingsledare:Inger Johed\, Mobil: 070-3666128\, E-post: inger@johed.com
URL:https://www.nargk.se/event/veterantisdag-8/
END:VEVENT
BEGIN:VEVENT
DTSTART;TZID=Europe/Stockholm:20240712T160000
DTEND;TZID=Europe/Stockholm:20240712T170000
DTSTAMP:20260422T153906
CREATED:20240517T185041Z
LAST-MODIFIED:20240517T185041Z
UID:10000157-1720800000-1720803600@www.nargk.se
SUMMARY:Krögargolf
DESCRIPTION:Nu startar vi upp Närs Krog krögargolf!\nNär: Fredagar 31/5 – 2/8 \nStarttid: 16:00 \nAntal hål: 9 \nSpelform: Singeltävling/poängbogey. Tre bästa rundorna + sista 18 ger pris. \nAntal platser: 24 platser/tillfälle\, ”först till kvarn” \nAnmälan:  öppnar en vecka innan varje start. Du anmäler och betalar direkt på MinGolf. Sista anmälan torsdagar kl 12:00 \nPris: Mat och spel 250:- obligatoriskt mat och dryck. Mat utan spel  220:- \nAvslutning: final lördag den 10 augusti över 18 hål och grillafton.
URL:https://www.nargk.se/event/krogargolf-7/
END:VEVENT
BEGIN:VEVENT
DTSTART;TZID=Europe/Stockholm:20240711T170000
DTEND;TZID=Europe/Stockholm:20240711T180000
DTSTAMP:20260422T153906
CREATED:20240626T103333Z
LAST-MODIFIED:20240626T103333Z
UID:10000167-1720717200-1720720800@www.nargk.se
SUMMARY:Medlemsträning
DESCRIPTION:Medlemsträning senior \nTid: 17:00 – 18:00 \nAvgift: 100:- \nMax 12 deltagare
URL:https://www.nargk.se/event/medlemstraning-2/
END:VEVENT
BEGIN:VEVENT
DTSTART;TZID=Europe/Stockholm:20240711T160000
DTEND;TZID=Europe/Stockholm:20240711T164500
DTSTAMP:20260422T153906
CREATED:20240705T110721Z
LAST-MODIFIED:20240705T110745Z
UID:10000175-1720713600-1720716300@www.nargk.se
SUMMARY:Juniorträning
DESCRIPTION:Välkommen på juniorträning\, torsdagar i juli 16:00 – 16:45. \nPris: 50:-/tillfälle \nBoka via nargk.se/boka \n 
URL:https://www.nargk.se/event/juniortraning/
END:VEVENT
BEGIN:VEVENT
DTSTART;TZID=Europe/Stockholm:20240710T130000
DTEND;TZID=Europe/Stockholm:20240710T150000
DTSTAMP:20260422T153906
CREATED:20240326T122007Z
LAST-MODIFIED:20240406T202416Z
UID:10000129-1720616400-1720623600@www.nargk.se
SUMMARY:Tävling: Damernas
DESCRIPTION:Tävlingsledare:Alf Möllerström.
URL:https://www.nargk.se/event/tavling-damernas/
END:VEVENT
BEGIN:VEVENT
DTSTART;TZID=Europe/Stockholm:20240710T100000
DTEND;TZID=Europe/Stockholm:20240710T150000
DTSTAMP:20260422T153906
CREATED:20240708T152235Z
LAST-MODIFIED:20240708T152235Z
UID:10000179-1720605600-1720623600@www.nargk.se
SUMMARY:Demodag Titleist
DESCRIPTION:Välkommen på demodag. Passa på att prova Titleist nya golfutrusning. \n 
URL:https://www.nargk.se/event/demodag-titleist/
END:VEVENT
BEGIN:VEVENT
DTSTART;TZID=Europe/Stockholm:20240709T160000
DTEND;TZID=Europe/Stockholm:20240709T180000
DTSTAMP:20260422T153906
CREATED:20240701T070447Z
LAST-MODIFIED:20240704T075257Z
UID:10000172-1720540800-1720548000@www.nargk.se
SUMMARY:Damträning
DESCRIPTION:Vi följer upp förra årets succéträningar speciellt utformade för damer. Tillsammans med PRO tränar vi med olika teman och har kul tillsammans. 150:-/tillfälle. Max 24 platser. Boka damträning nargk.se/boka och betala i receptionen. Det är Fredrik Ström och Hans Agardh som kommer vara tränare i år.
URL:https://www.nargk.se/event/damtraning-2/
END:VEVENT
BEGIN:VEVENT
DTSTART;TZID=Europe/Stockholm:20240709T130000
DTEND;TZID=Europe/Stockholm:20240709T150000
DTSTAMP:20260422T153906
CREATED:20240326T111538Z
LAST-MODIFIED:20240326T111538Z
UID:10000103-1720530000-1720537200@www.nargk.se
SUMMARY:Veterantisdag
DESCRIPTION:Golf för veteraner. Boka via MinGolf \nTävlingsledare:Peter Haller\, Mobil: 070-5822351\, E-post: peter.haller@telia.com
URL:https://www.nargk.se/event/veterantisdag-7/
END:VEVENT
BEGIN:VEVENT
DTSTART;VALUE=DATE:20240709
DTEND;VALUE=DATE:20240712
DTSTAMP:20260422T153906
CREATED:20240220T120416Z
LAST-MODIFIED:20240617T071641Z
UID:10000089-1720483200-1720742399@www.nargk.se
SUMMARY:Träning: Nybörjarkurs seniorer
DESCRIPTION:Nyfiken på golf? Välkommen till nybörjarkursen i golf på När GK. \nKursen genomförs under 3 dagar á 5 timmar. \nKostnad för grönt-kort kursen: 2 195:- \nKostnad för grönt-kort kursen + medlemsskap: 2 995:- \nBoka via mail till info@nargk.se
URL:https://www.nargk.se/event/traning-nyborjarkurs-3/
END:VEVENT
BEGIN:VEVENT
DTSTART;TZID=Europe/Stockholm:20240708T090000
DTEND;TZID=Europe/Stockholm:20240708T120000
DTSTAMP:20260422T153906
CREATED:20240326T121742Z
LAST-MODIFIED:20240326T121742Z
UID:10000128-1720429200-1720440000@www.nargk.se
SUMMARY:Tävling: Herrdag 18 hål
DESCRIPTION:Tävlingsledare:Mikael Sars\, Mobil: 070-669 79 22\, E-post: mikael.sars@gmail.com
URL:https://www.nargk.se/event/tavling-herrdag-18-hal/
END:VEVENT
BEGIN:VEVENT
DTSTART;TZID=Europe/Stockholm:20240705T160000
DTEND;TZID=Europe/Stockholm:20240705T170000
DTSTAMP:20260422T153906
CREATED:20240517T185010Z
LAST-MODIFIED:20240517T185010Z
UID:10000156-1720195200-1720198800@www.nargk.se
SUMMARY:Krögargolf
DESCRIPTION:Nu startar vi upp Närs Krog krögargolf!\nNär: Fredagar 31/5 – 2/8 \nStarttid: 16:00 \nAntal hål: 9 \nSpelform: Singeltävling/poängbogey. Tre bästa rundorna + sista 18 ger pris. \nAntal platser: 24 platser/tillfälle\, ”först till kvarn” \nAnmälan:  öppnar en vecka innan varje start. Du anmäler och betalar direkt på MinGolf. Sista anmälan torsdagar kl 12:00 \nPris: Mat och spel 250:- obligatoriskt mat och dryck. Mat utan spel  220:- \nAvslutning: final lördag den 10 augusti över 18 hål och grillafton.
URL:https://www.nargk.se/event/krogargolf-6/
END:VEVENT
BEGIN:VEVENT
DTSTART;TZID=Europe/Stockholm:20240704T170000
DTEND;TZID=Europe/Stockholm:20240704T180000
DTSTAMP:20260422T153906
CREATED:20240626T102655Z
LAST-MODIFIED:20240626T102655Z
UID:10000166-1720112400-1720116000@www.nargk.se
SUMMARY:Medlemsträning
DESCRIPTION:Medlemsträning senior \nTid: 17:00 – 18:00 \nAvgift: 100:- \nMax 12 deltagare
URL:https://www.nargk.se/event/medlemstraning/
END:VEVENT
BEGIN:VEVENT
DTSTART;TZID=Europe/Stockholm:20240702T160000
DTEND;TZID=Europe/Stockholm:20240702T180000
DTSTAMP:20260422T153906
CREATED:20240701T065810Z
LAST-MODIFIED:20240701T070532Z
UID:10000171-1719936000-1719943200@www.nargk.se
SUMMARY:Damträning
DESCRIPTION:Vi följer upp förra årets succéträningar speciellt utformade för damer. Tillsammans med PRO tränar vi med olika teman och har kul tillsammans. 150:-/tillfälle. Max 24 platser. Boka damträning nargk.se/boka och betala i receptionen. Det är Fredrik Ström och Hans Agardh som kommer vara tränare i år.
URL:https://www.nargk.se/event/damtraning/
END:VEVENT
BEGIN:VEVENT
DTSTART;TZID=Europe/Stockholm:20240702T130000
DTEND;TZID=Europe/Stockholm:20240702T150000
DTSTAMP:20260422T153906
CREATED:20240326T111405Z
LAST-MODIFIED:20240326T111405Z
UID:10000102-1719925200-1719932400@www.nargk.se
SUMMARY:Veterantisdag
DESCRIPTION:Golf för veteraner. Boka via MinGolf \nTävlingsledare: Ingemar Nilsson\, Mobil: 070-3232713\, E-post: nilsson.ingemar@telia.com
URL:https://www.nargk.se/event/veterantisdag-6/
END:VEVENT
BEGIN:VEVENT
DTSTART;TZID=Europe/Stockholm:20240628T160000
DTEND;TZID=Europe/Stockholm:20240628T170000
DTSTAMP:20260422T153906
CREATED:20240517T184933Z
LAST-MODIFIED:20240517T184933Z
UID:10000155-1719590400-1719594000@www.nargk.se
SUMMARY:Krögargolf
DESCRIPTION:Nu startar vi upp Närs Krog krögargolf!\nNär: Fredagar 31/5 – 2/8 \nStarttid: 16:00 \nAntal hål: 9 \nSpelform: Singeltävling/poängbogey. Tre bästa rundorna + sista 18 ger pris. \nAntal platser: 24 platser/tillfälle\, ”först till kvarn” \nAnmälan:  öppnar en vecka innan varje start. Du anmäler och betalar direkt på MinGolf. Sista anmälan torsdagar kl 12:00 \nPris: Mat och spel 250:- obligatoriskt mat och dryck. Mat utan spel  220:- \nAvslutning: final lördag den 10 augusti över 18 hål och grillafton.
URL:https://www.nargk.se/event/krogargolf-5/
END:VEVENT
BEGIN:VEVENT
DTSTART;TZID=Europe/Stockholm:20240628T090000
DTEND;TZID=Europe/Stockholm:20240630T150000
DTSTAMP:20260422T153906
CREATED:20240612T080117Z
LAST-MODIFIED:20240617T071434Z
UID:10000163-1719565200-1719759600@www.nargk.se
SUMMARY:Nybörjarkurs juniorer
DESCRIPTION:Är du junior och nyfiken på golf? Välkommen till nybörjarkursen i golf på När GK. \nKursen genomförs under 3 dagar á 5 timmar. \nKostnad för grönt-kort kursen: 1 500:- \nKostnad för grönt-kort kursen + medlemsskap: 2 000:-
URL:https://www.nargk.se/event/nyborjarkurs-juniorer/
END:VEVENT
BEGIN:VEVENT
DTSTART;TZID=Europe/Stockholm:20240625T170000
DTEND;TZID=Europe/Stockholm:20240625T180000
DTSTAMP:20260422T153906
CREATED:20240514T120911Z
LAST-MODIFIED:20240514T120919Z
UID:10000146-1719334800-1719338400@www.nargk.se
SUMMARY:Medlemsträning senior
DESCRIPTION:Medlemsträning senior \nTid: 17:00 – 18:00 \nAvgift: 100:- \nMax 12 deltagare
URL:https://www.nargk.se/event/medlemstraning-senior-6/
END:VEVENT
BEGIN:VEVENT
DTSTART;TZID=Europe/Stockholm:20240625T130000
DTEND;TZID=Europe/Stockholm:20240625T150000
DTSTAMP:20260422T153906
CREATED:20240326T111218Z
LAST-MODIFIED:20240326T111218Z
UID:10000101-1719320400-1719327600@www.nargk.se
SUMMARY:Veterantisdag
DESCRIPTION:Golf för veteraner. Boka via MinGolf \nTävlingsledare:Svend-Erik Nielsen\, Mobil: 076-1739800\, E-post: setn49@gmail.com
URL:https://www.nargk.se/event/veterantisdag-5/
END:VEVENT
BEGIN:VEVENT
DTSTART;TZID=Europe/Stockholm:20240623T110000
DTEND;TZID=Europe/Stockholm:20240623T140000
DTSTAMP:20260422T153906
CREATED:20240326T121539Z
LAST-MODIFIED:20240326T121539Z
UID:10000127-1719140400-1719151200@www.nargk.se
SUMMARY:Tävling: Midsommarslaget
DESCRIPTION:Tävlingsledare:Elisabeth Ollas Paulsson\, Mobil: 070-682 19 53\, E-post: eollaspaulsson@gmail.com
URL:https://www.nargk.se/event/tavling-midsommarslaget/
END:VEVENT
BEGIN:VEVENT
DTSTART;TZID=Europe/Stockholm:20240623T110000
DTEND;TZID=Europe/Stockholm:20240623T140000
DTSTAMP:20260422T153906
CREATED:20240326T121432Z
LAST-MODIFIED:20240326T121432Z
UID:10000126-1719140400-1719151200@www.nargk.se
SUMMARY:Tävling: Midsommarslaget Kåks
DESCRIPTION:Tävlingsledare:Elisabeth Ollas Paulsson\, Mobil: 070-682 19 53\, E-post: eollaspaulsson@gmail.com
URL:https://www.nargk.se/event/tavling-midsommarslaget-kaks/
END:VEVENT
BEGIN:VEVENT
DTSTART;TZID=Europe/Stockholm:20240618T170000
DTEND;TZID=Europe/Stockholm:20240618T180000
DTSTAMP:20260422T153906
CREATED:20240514T120822Z
LAST-MODIFIED:20240514T121854Z
UID:10000150-1718730000-1718733600@www.nargk.se
SUMMARY:Medlemsträning senior
DESCRIPTION:Medlemsträning senior \nTid: 17:00 – 18:00 \nAvgift: 100:- \nMax 12 deltagare
URL:https://www.nargk.se/event/medlemstraning-senior-5/
END:VEVENT
BEGIN:VEVENT
DTSTART;TZID=Europe/Stockholm:20240618T090000
DTEND;TZID=Europe/Stockholm:20240618T110000
DTSTAMP:20260422T153906
CREATED:20240326T111049Z
LAST-MODIFIED:20240326T111049Z
UID:10000100-1718701200-1718708400@www.nargk.se
SUMMARY:Veterantisdag
DESCRIPTION:Golf för veteraner. Boka via MinGolf \nTävlingsledare:Inger Johed\, Mobil: 070-3666128\, E-post: inger@johed.com
URL:https://www.nargk.se/event/veterantisdag-4/
END:VEVENT
BEGIN:VEVENT
DTSTART;TZID=Europe/Stockholm:20240616T140000
DTEND;TZID=Europe/Stockholm:20240616T170000
DTSTAMP:20260422T153906
CREATED:20240326T121150Z
LAST-MODIFIED:20240326T121150Z
UID:10000125-1718546400-1718557200@www.nargk.se
SUMMARY:Seriespel När GK - Slite GK
DESCRIPTION:Tävlingsledare:Per Josefsson\, Mobil: 070-8112801\, E-post: per.josef@telia.com
URL:https://www.nargk.se/event/seriespel-nar-gk-slite-gk/
END:VEVENT
END:VCALENDAR