BEGIN:VCALENDAR
VERSION:2.0
PRODID:-//När GK - ECPv6.15.15//NONSGML v1.0//EN
CALSCALE:GREGORIAN
METHOD:PUBLISH
X-WR-CALNAME:När GK
X-ORIGINAL-URL:https://www.nargk.se
X-WR-CALDESC:Händelser för När GK
REFRESH-INTERVAL;VALUE=DURATION:PT1H
X-Robots-Tag:noindex
X-PUBLISHED-TTL:PT1H
BEGIN:VTIMEZONE
TZID:Europe/Stockholm
BEGIN:DAYLIGHT
TZOFFSETFROM:+0100
TZOFFSETTO:+0200
TZNAME:CEST
DTSTART:20230326T010000
END:DAYLIGHT
BEGIN:STANDARD
TZOFFSETFROM:+0200
TZOFFSETTO:+0100
TZNAME:CET
DTSTART:20231029T010000
END:STANDARD
BEGIN:DAYLIGHT
TZOFFSETFROM:+0100
TZOFFSETTO:+0200
TZNAME:CEST
DTSTART:20240331T010000
END:DAYLIGHT
BEGIN:STANDARD
TZOFFSETFROM:+0200
TZOFFSETTO:+0100
TZNAME:CET
DTSTART:20241027T010000
END:STANDARD
BEGIN:DAYLIGHT
TZOFFSETFROM:+0100
TZOFFSETTO:+0200
TZNAME:CEST
DTSTART:20250330T010000
END:DAYLIGHT
BEGIN:STANDARD
TZOFFSETFROM:+0200
TZOFFSETTO:+0100
TZNAME:CET
DTSTART:20251026T010000
END:STANDARD
END:VTIMEZONE
BEGIN:VEVENT
DTSTART;TZID=Europe/Stockholm:20240329T100000
DTEND;TZID=Europe/Stockholm:20240329T120000
DTSTAMP:20260423T001120
CREATED:20240114T192428Z
LAST-MODIFIED:20240320T153022Z
UID:10000084-1711706400-1711713600@www.nargk.se
SUMMARY:Medlemsmöte/årsmöte 2024
DESCRIPTION:Välkommen på medlemsmöte/årsmöte på långfredagen! \nPlats: klubbhuset\, När GK \nTid: 29/3 2024 10:00 \nNödvändiga dokument kommer du hitta under Medlem/Dokument inom kort. (Obs att du använder samma inloggningsuppgifter som på MinGolf) \nAnmälan: skicka gärna ditt namn till info@nargk.se \nKaffe och kaka serveras. \n  \nFörslag till föredragningslista till När Golfklubb årsmöte 2024-03-29 \n\nFastställande av röstlängd för mötet.\nFråga om mötet har utlysts på rätt sätt.\nFastställande av föredragningslista.\nVal av ordförande och sekreterare för mötet.\nVal av två protokolljusterare\, tillika rösträknare\, som jämte ordföranden skall justera mötesprotokollet.\nVerksamhetsberättelse och årsbokslut för 2023\n1. Styrelsens verksamhetsberättelse för det senaste verksamhetsåret.\n2. Styrelsens årsredovisning/årsbokslut (resultat- och balansräkning) för det senaste räkenskapsåret.\nRevisorernas berättelse över styrelsens förvaltning under det senaste verksamhets- och räkenskapsåret.\nFastställande av resultat- och balansräkning samt disposition av överskott respektive underskott i enlighet med balansräkningen.\nFråga om ansvarsfrihet för styrelsen för den tid revisionen avser.\nFastställande av medlemsavgifter för nästkommande verksamhetsår. (2025)\nFastställande av verksamhetsplan\, budget\, och spelavgifter för kommande verksamhets- och räkenskapsår. (2024).\nBehandling av styrelsens förslag och i rätt tid inkomna motioner.\n\n13. Val av ledamöter
URL:https://www.nargk.se/event/medlemsmote/
END:VEVENT
BEGIN:VEVENT
DTSTART;TZID=Europe/Stockholm:20240326T090000
DTEND;TZID=Europe/Stockholm:20240326T110000
DTSTAMP:20260423T001120
CREATED:20240326T110909Z
LAST-MODIFIED:20240326T110952Z
UID:10000099-1711443600-1711450800@www.nargk.se
SUMMARY:Öppen veterandag
DESCRIPTION:Golf för veteraner. Boka via MinGolf \nTävlingsledare:Inger Johed\, Mobil: 070-3666128\, E-post: inger@johed.com
URL:https://www.nargk.se/event/oppen-veterandag/
END:VEVENT
END:VCALENDAR